BEGIN:VCALENDAR
PRODID:-//PUBBLE//agenda//NL
VERSION:2.0
METHOD:PUBLISH
BEGIN:VEVENT
DTSTART:20250313T180000Z
DTEND:20250313T200000Z
DTSTAMP:20260423T114922Z
UID:99126d7b-c9bf-43aa-95d0-0f4c5140e002
CREATED:20260423T114922Z
NAME:Van Oordt’s Mersken door de ogen van de Rietzanger grootsa.nl
X-WR-CALNAME:Van Oordt’s Mersken door de ogen van de Rietzanger
X-ALT-DESC;FMTTYPE=text/html:<a href='/agenda/2025/3/13/van-oordts-mersken-door-de-ogen-van-de-rietzanger-105383'>/agenda/2025/3/13/van-oordts-mersken-door-de-ogen-van-de-rietzanger-105383</a> || <p>De meeste mensen kennen Van Oordt’s Mersken wel als een prachtig Natura 2000 gebied gelegen tussen Terwispel en Nij-Beets Maar heeft u het gebied wel eens door de ogen van een Rietzanger bekeken? Een verrassende, onverwachte ervaring die Wender Bil graag met ons wil delen. Wender doet al vele jaren vogelonderzoek in het gebied, met name naar de Rietzanger. Prachtige foto’s maar vooral ook heel veel kennis heeft dit opgeleverd.Hoe is het bijvoorbeeld mogelijk dat een nestjong van de Rietzanger uit natuurgebied van Oordt’s Merksen, het volgende voorjaar opduikt langs de oevers van het Gardameer? Een gekleurringd mannetje dat het ene jaar langs het Koningsdiep zit te zingen en een jaar later zingend in België wordt aangetroffen? Wender gaat dit ons allemaal uit de doeken doen aan de hand van door hem aangebrachte geolocaters waarmee individuele trekroutes en overwinteringsgebieden in kaart zijn gebracht. Een primeur want een dergelijk onderzoek is niet eerder gedaan bij de Rietzanger. En wij zijn dan ook bijzonder vereerd met het feit dat Wender dit als eerste met ons wil delen. Het belooft een interessante avond te worden.</p><p><strong>Locatie: De Draaier (voltawerk), Stationsweg 76, Gorredijk</strong></p><p><strong>Datum: Donderdag 13 maart 2025</strong></p><p><strong>Tijd: 20:00 uur</strong></p><p><strong>Kosten: Leden gratis, niet leden 5 euro</strong></p>
DESCRIPTION:<a href='/agenda/2025/3/13/van-oordts-mersken-door-de-ogen-van-de-rietzanger-105383'>/agenda/2025/3/13/van-oordts-mersken-door-de-ogen-van-de-rietzanger-105383</a> || <p>De meeste mensen kennen Van Oordt’s Mersken wel als een prachtig Natura 2000 gebied gelegen tussen Terwispel en Nij-Beets Maar heeft u het gebied wel eens door de ogen van een Rietzanger bekeken? Een verrassende, onverwachte ervaring die Wender Bil graag met ons wil delen. Wender doet al vele jaren vogelonderzoek in het gebied, met name naar de Rietzanger. Prachtige foto’s maar vooral ook heel veel kennis heeft dit opgeleverd.Hoe is het bijvoorbeeld mogelijk dat een nestjong van de Rietzanger uit natuurgebied van Oordt’s Merksen, het volgende voorjaar opduikt langs de oevers van het Gardameer? Een gekleurringd mannetje dat het ene jaar langs het Koningsdiep zit te zingen en een jaar later zingend in België wordt aangetroffen? Wender gaat dit ons allemaal uit de doeken doen aan de hand van door hem aangebrachte geolocaters waarmee individuele trekroutes en overwinteringsgebieden in kaart zijn gebracht. Een primeur want een dergelijk onderzoek is niet eerder gedaan bij de Rietzanger. En wij zijn dan ook bijzonder vereerd met het feit dat Wender dit als eerste met ons wil delen. Het belooft een interessante avond te worden.</p><p><strong>Locatie: De Draaier (voltawerk), Stationsweg 76, Gorredijk</strong></p><p><strong>Datum: Donderdag 13 maart 2025</strong></p><p><strong>Tijd: 20:00 uur</strong></p><p><strong>Kosten: Leden gratis, niet leden 5 euro</strong></p>
LAST-MODIFIED:20260423T114922Z
LOCATION: De Draaier | Stationsweg 72 Gorredijk
SEQUENCE:0
STATUS:CONFIRMED
SUMMARY:Van Oordt’s Mersken door de ogen van de Rietzanger
TRANSP:OPAQUE
END:VEVENT
END:VCALENDAR
