BEGIN:VCALENDAR
PRODID:-//PUBBLE//agenda//NL
VERSION:2.0
METHOD:PUBLISH
BEGIN:VEVENT
DTSTART:20250330T130000Z
DTEND:20250330T190000Z
DTSTAMP:20260423T004946Z
UID:182cdbd7-cf08-41c0-8908-559aea43060d
CREATED:20260423T004946Z
NAME:De Beat Kings in G’Oldies 50+ café grootsa.nl
X-WR-CALNAME:De Beat Kings in G’Oldies 50+ café
X-ALT-DESC;FMTTYPE=text/html:<a href='/agenda/2025/3/30/de-beat-kings-in-goldies-50-cafe-106768'>/agenda/2025/3/30/de-beat-kings-in-goldies-50-cafe-106768</a> || <p>TERWISPEL - Zondag 30 maart (15.00 tot 21.00 uur) is er weer een nieuwe editie van het G’Oldies 50+ café. Te gast in Café Spaltenbrêge in Terwispel zijn dit keer de Beat Kings. Sinds het najaar van 2023 organiseert Gorredykster Ans Dijkstra samen met Code Hans het G’Oldies 50+ café. Kom langs voor een gezellige zondagmiddag met livemuziek. Ben je alleen? Kom gewoon, bij ons ben je samen! Entree: 5 euro. Alleen voor 50-plus. Blijf op de hoogte van ons programma en volg ons op Facebook onder de naam G’Oldies.</p>
DESCRIPTION:<a href='/agenda/2025/3/30/de-beat-kings-in-goldies-50-cafe-106768'>/agenda/2025/3/30/de-beat-kings-in-goldies-50-cafe-106768</a> || <p>TERWISPEL - Zondag 30 maart (15.00 tot 21.00 uur) is er weer een nieuwe editie van het G’Oldies 50+ café. Te gast in Café Spaltenbrêge in Terwispel zijn dit keer de Beat Kings. Sinds het najaar van 2023 organiseert Gorredykster Ans Dijkstra samen met Code Hans het G’Oldies 50+ café. Kom langs voor een gezellige zondagmiddag met livemuziek. Ben je alleen? Kom gewoon, bij ons ben je samen! Entree: 5 euro. Alleen voor 50-plus. Blijf op de hoogte van ons programma en volg ons op Facebook onder de naam G’Oldies.</p>
LAST-MODIFIED:20260423T004946Z
LOCATION: Café Spaltenbrêge | De Streek 79 Terwispel
SEQUENCE:0
STATUS:CONFIRMED
SUMMARY:De Beat Kings in G’Oldies 50+ café
TRANSP:OPAQUE
END:VEVENT
END:VCALENDAR
