BEGIN:VCALENDAR
PRODID:-//PUBBLE//agenda//NL
VERSION:2.0
METHOD:PUBLISH
BEGIN:VEVENT
DTSTART:20250518T130000Z
DTEND:20250518T190000Z
DTSTAMP:20260422T005936Z
UID:b3479f6a-31ca-48da-b9c9-5a3fa82642a9
CREATED:20260422T005936Z
NAME:HUDR op herhaling in het G’Oldies 50+ café grootsa.nl
X-WR-CALNAME:HUDR op herhaling in het G’Oldies 50+ café
X-ALT-DESC;FMTTYPE=text/html:<a href='/agenda/2025/5/18/hudr-op-herhaling-in-het-goldies-50-cafe-110002'>/agenda/2025/5/18/hudr-op-herhaling-in-het-goldies-50-cafe-110002</a> || <p>TERWISPEL &nbsp;- Sommige bands zijn zo leuk, die móét je nog een keer zien. Dus na hun spetterende optreden eind september vorig jaar, nu op herhaling in het G’Oldies 50+ café, de band HUDR! Met meerstemmige zang, twee gitaristen, een bassist en een drummer speelt HUDR vol enthousiasme en energie de favoriete hits van nu en (vooral) toen. Pop, rock, akoestisch; goede muziek en altijd een feestje! Traditiegetrouw is het G’Oldies 50+ café in Café Spaltenbrêge aan De Streek 79 in Terwispel op de zondagmiddag van 15:00 tot 21:00 uur. Al bijna twee jaar organiseert Gorredykster Ans Dijkstra samen met Code Hans het G’Oldies 50+ café. Kom langs voor een leuke zondagmiddag met livemuziek. Het is altijd gezellig. Ben je alleen? Kom gewoon, bij ons ben je samen! Alleen voor 50-plus. Entree: 5 euro. Blijf op de hoogte van ons programma en volg ons op Facebook onder de naam G’Oldies.</p>
DESCRIPTION:<a href='/agenda/2025/5/18/hudr-op-herhaling-in-het-goldies-50-cafe-110002'>/agenda/2025/5/18/hudr-op-herhaling-in-het-goldies-50-cafe-110002</a> || <p>TERWISPEL &nbsp;- Sommige bands zijn zo leuk, die móét je nog een keer zien. Dus na hun spetterende optreden eind september vorig jaar, nu op herhaling in het G’Oldies 50+ café, de band HUDR! Met meerstemmige zang, twee gitaristen, een bassist en een drummer speelt HUDR vol enthousiasme en energie de favoriete hits van nu en (vooral) toen. Pop, rock, akoestisch; goede muziek en altijd een feestje! Traditiegetrouw is het G’Oldies 50+ café in Café Spaltenbrêge aan De Streek 79 in Terwispel op de zondagmiddag van 15:00 tot 21:00 uur. Al bijna twee jaar organiseert Gorredykster Ans Dijkstra samen met Code Hans het G’Oldies 50+ café. Kom langs voor een leuke zondagmiddag met livemuziek. Het is altijd gezellig. Ben je alleen? Kom gewoon, bij ons ben je samen! Alleen voor 50-plus. Entree: 5 euro. Blijf op de hoogte van ons programma en volg ons op Facebook onder de naam G’Oldies.</p>
LAST-MODIFIED:20260422T005936Z
LOCATION: Café Spaltenbrêge | De Streek 79 Terwispel
SEQUENCE:0
STATUS:CONFIRMED
SUMMARY:HUDR op herhaling in het G’Oldies 50+ café
TRANSP:OPAQUE
END:VEVENT
END:VCALENDAR
