BEGIN:VCALENDAR
PRODID:-//PUBBLE//agenda//NL
VERSION:2.0
METHOD:PUBLISH
BEGIN:VEVENT
DTSTART:20251004T130000Z
DTEND:20251004T140000Z
DTSTAMP:20260420T161349Z
UID:5dd800dd-96d0-45a2-b74d-01d935d57a98
CREATED:20260420T161349Z
NAME:Bierfestival Wereld Bierendag grootsa.nl
X-WR-CALNAME:Bierfestival Wereld Bierendag
X-ALT-DESC;FMTTYPE=text/html:<a href='/agenda/2025/10/4/bierfestival-wereld-bierendag-116867'>/agenda/2025/10/4/bierfestival-wereld-bierendag-116867</a> || <p><strong>BEETSTERZWAAG – Dorpshuis De Buorskip vormt op zaterdag 4 oktober het decor van Wereld Bierendag. Tijdens dit evenement presenteren diverse regionale brouwerijen hun speciaalbieren,&nbsp;</strong></p><p>Terwijl Tuff Luck en de Marcel Scherpenzeeband dak van De Buorskip in Beetsterzwaag eraf spelen, kunnen bezoekers van Wereld Bierendag genieten van een ruim aanbod in verschillende biersoorten van 3 regionale bierbrouwers, Nordyk, De Wiere Wâldman en JP Brouwt.</p><p>Het evenement biedt bovendien een bijzondere ervaring met de Bigsby Singing Barber. Deze barbier brengt bezoekers in vintage sfeer terug naar de jaren vijftig, compleet met authentieke aankleding door de Fifty’s Shop.</p><p>Zaal is open vanaf 20.00 uur en toegang is gratis. Kaarten zijn verkrijgbaar via <a href="http://www.wereldbierendag.nl" rel="noopener noreferrer" target="_blank">www.wereldbierendag.nl</a>.</p>
DESCRIPTION:<a href='/agenda/2025/10/4/bierfestival-wereld-bierendag-116867'>/agenda/2025/10/4/bierfestival-wereld-bierendag-116867</a> || <p><strong>BEETSTERZWAAG – Dorpshuis De Buorskip vormt op zaterdag 4 oktober het decor van Wereld Bierendag. Tijdens dit evenement presenteren diverse regionale brouwerijen hun speciaalbieren,&nbsp;</strong></p><p>Terwijl Tuff Luck en de Marcel Scherpenzeeband dak van De Buorskip in Beetsterzwaag eraf spelen, kunnen bezoekers van Wereld Bierendag genieten van een ruim aanbod in verschillende biersoorten van 3 regionale bierbrouwers, Nordyk, De Wiere Wâldman en JP Brouwt.</p><p>Het evenement biedt bovendien een bijzondere ervaring met de Bigsby Singing Barber. Deze barbier brengt bezoekers in vintage sfeer terug naar de jaren vijftig, compleet met authentieke aankleding door de Fifty’s Shop.</p><p>Zaal is open vanaf 20.00 uur en toegang is gratis. Kaarten zijn verkrijgbaar via <a href="http://www.wereldbierendag.nl" rel="noopener noreferrer" target="_blank">www.wereldbierendag.nl</a>.</p>
LAST-MODIFIED:20260420T161349Z
LOCATION: De Buorskip | Vlaslaan 26 Beetsterzwaag
SEQUENCE:0
STATUS:CONFIRMED
SUMMARY:Bierfestival Wereld Bierendag
TRANSP:OPAQUE
END:VEVENT
END:VCALENDAR
