BEGIN:VCALENDAR
PRODID:-//PUBBLE//agenda//NL
VERSION:2.0
METHOD:PUBLISH
BEGIN:VEVENT
DTSTART:20251004T080000Z
DTEND:20251005T150000Z
DTSTAMP:20260423T155954Z
UID:eeabadf3-6caf-49e2-804a-282ebf094e3f
CREATED:20260423T155954Z
NAME:Appeldag en Streekmarkt grootsa.nl
X-WR-CALNAME:Appeldag en Streekmarkt
X-ALT-DESC;FMTTYPE=text/html:<a href='/agenda/2025/10/5/appeldag-en-streekmarkt-117878'>/agenda/2025/10/5/appeldag-en-streekmarkt-117878</a> || <p>Op zondag 5 oktober 2025 vindt de jaarlijkse Appeldag en Streekmarkt plaats bij de Tropische Kas te Beetsterzwaag.</p><p>Streekmarkt met o.a. uiteraard appels, peren, kaas, honing, noten, groenten, gedroogde kruiden, handgemaakte sieraden en tassen, jams, bloemen en meer. &nbsp;Ook is er versgeperste appelsap van onze eigen pers en zal er livemuziek zijn (accordeon/trekzak, gitaar).</p><p>De Vrienden van het Oude Fruit zijn weer van de partij om meegenomen appels van bezoekers te determineren. Hiervoor vragen ze dat u enkele appels en blad van de appelboom meeneemt. De Vrienden nemen zelf vele soorten appels mee om bezoekers kennis te laten maken met allerlei (oude) rassen.</p><p>Onze gids zal u op verzoek rondleiden in de boomgaard van het Lycklamapark. Kom gezellig langs tussen 13.00 en 17:00 uur. Meer info, zie <a href="//www.tropischekas.nl" rel="noopener noreferrer" target="_blank">www.tropischekas.nl</a>.</p>
DESCRIPTION:<a href='/agenda/2025/10/5/appeldag-en-streekmarkt-117878'>/agenda/2025/10/5/appeldag-en-streekmarkt-117878</a> || <p>Op zondag 5 oktober 2025 vindt de jaarlijkse Appeldag en Streekmarkt plaats bij de Tropische Kas te Beetsterzwaag.</p><p>Streekmarkt met o.a. uiteraard appels, peren, kaas, honing, noten, groenten, gedroogde kruiden, handgemaakte sieraden en tassen, jams, bloemen en meer. &nbsp;Ook is er versgeperste appelsap van onze eigen pers en zal er livemuziek zijn (accordeon/trekzak, gitaar).</p><p>De Vrienden van het Oude Fruit zijn weer van de partij om meegenomen appels van bezoekers te determineren. Hiervoor vragen ze dat u enkele appels en blad van de appelboom meeneemt. De Vrienden nemen zelf vele soorten appels mee om bezoekers kennis te laten maken met allerlei (oude) rassen.</p><p>Onze gids zal u op verzoek rondleiden in de boomgaard van het Lycklamapark. Kom gezellig langs tussen 13.00 en 17:00 uur. Meer info, zie <a href="//www.tropischekas.nl" rel="noopener noreferrer" target="_blank">www.tropischekas.nl</a>.</p>
LAST-MODIFIED:20260423T155954Z
LOCATION: Tropische Kas | Hoofdstraat  Beetsterzwaag
SEQUENCE:0
STATUS:CONFIRMED
SUMMARY:Appeldag en Streekmarkt
TRANSP:OPAQUE
END:VEVENT
END:VCALENDAR
