BEGIN:VCALENDAR
PRODID:-//PUBBLE//agenda//NL
VERSION:2.0
METHOD:PUBLISH
BEGIN:VEVENT
DTSTART:20250927T115503Z
DTEND:20250927T125503Z
DTSTAMP:20260420T084245Z
UID:ff568566-f2fb-4f45-9bb9-30fbbdabdb20
CREATED:20260420T084245Z
NAME:Popkoor Blinder in Witte Kerk Hemrik grootsa.nl
X-WR-CALNAME:Popkoor Blinder in Witte Kerk Hemrik
X-ALT-DESC;FMTTYPE=text/html:<a href='/agenda/2025/10/5/popkoor-blinder-in-witte-kerk-hemrik-118153'>/agenda/2025/10/5/popkoor-blinder-in-witte-kerk-hemrik-118153</a> || <p><strong>HEMRIK - Zondagmiddag 5 oktober treedt pop- en musicalkoor Blinder op in de Witte Kerk Hemrik. Het koor bestaat uit 25 enthousiaste vrouwen uit Easterlittens die musical- en popsongs ten gehore brengen, en dan het liefst de wat minder bekende nummers. </strong></p><p>Luisterliedjes worden afgewisseld met potentiële meezingers, maar bovenal zingen de vrouwen liedjes waar ze blij van worden. Het koor wordt geleid door dirigente Baukje en begeleid door de band “Trio de Helling”. Aanvang 15.00 uur. Entree € 12,- incl. koffie/thee. Reserveren en meer informatie via <a href="http://www.wittekerkhemrik.nl" rel="noopener noreferrer" target="_blank">www.wittekerkhemrik.nl</a>.<strong>&nbsp;<br></strong></p>
DESCRIPTION:<a href='/agenda/2025/10/5/popkoor-blinder-in-witte-kerk-hemrik-118153'>/agenda/2025/10/5/popkoor-blinder-in-witte-kerk-hemrik-118153</a> || <p><strong>HEMRIK - Zondagmiddag 5 oktober treedt pop- en musicalkoor Blinder op in de Witte Kerk Hemrik. Het koor bestaat uit 25 enthousiaste vrouwen uit Easterlittens die musical- en popsongs ten gehore brengen, en dan het liefst de wat minder bekende nummers. </strong></p><p>Luisterliedjes worden afgewisseld met potentiële meezingers, maar bovenal zingen de vrouwen liedjes waar ze blij van worden. Het koor wordt geleid door dirigente Baukje en begeleid door de band “Trio de Helling”. Aanvang 15.00 uur. Entree € 12,- incl. koffie/thee. Reserveren en meer informatie via <a href="http://www.wittekerkhemrik.nl" rel="noopener noreferrer" target="_blank">www.wittekerkhemrik.nl</a>.<strong>&nbsp;<br></strong></p>
LAST-MODIFIED:20260420T084245Z
LOCATION: Witte kerk | Binnenwei 22 Hemrik
SEQUENCE:0
STATUS:CONFIRMED
SUMMARY:Popkoor Blinder in Witte Kerk Hemrik
TRANSP:OPAQUE
END:VEVENT
END:VCALENDAR
