BEGIN:VCALENDAR
PRODID:-//PUBBLE//agenda//NL
VERSION:2.0
METHOD:PUBLISH
BEGIN:VEVENT
DTSTART:20251220T140000Z
DTEND:20251220T151500Z
DTSTAMP:20260425T110550Z
UID:f0795b04-3aa9-474e-9cb8-7f448c0b0e78
CREATED:20260425T110550Z
NAME:Winterconcert door Brackman Trio (viool, cello, piano) grootsa.nl
X-WR-CALNAME:Winterconcert door Brackman Trio (viool, cello, piano)
X-ALT-DESC;FMTTYPE=text/html:<a href='/agenda/2025/12/20/winterconcert-door-brackman-trio-viool-cello-piano--119212'>/agenda/2025/12/20/winterconcert-door-brackman-trio-viool-cello-piano--119212</a> || <p>Winterconcert door de professionele musici van het Brackman Trio, bestaande uit Tim Brackman, viool en Kalle de Bie, cello en Rik Kuppen, piano. Zij spelen klassieke muziek van o.a. Brahms, Shostakovich, Roslavets en Schoenberg. Muziek van hun nieuwste CD, die genomineerd is voor een Edison Klassiek en waarvoor zij de Duitse “Schallplattenkritik”- prijs kregen.</p><p>&nbsp;Tim, Kalle en Rik hebben alle drie hun sporen verdiend, zowel als kamermusicus als solistisch. Alle drie waren zij prijswinnaars bij nationale concoursen zoals Dutch Classical Talent, Cellobiënnale, Nederlands Vioolconcours Oskar Back en de Young Pianist Foundation. In het Brackman Trio hebben zij hun krachten gebundeld. Het Brackman Trio vindt dat het pianotrio als ensemblevorm nog meer erkenning verdient. Zij verdiepen zich in het bekende pianotriorepertoire van o.a. Beethoven, Haydn of Brahms, maar zien het ook als hun missie om op zoek te gaan naar de onbekende pareltjes binnen dit genre, zoals bijvoorbeeld de pianotrio’s van Nikolai Roslavets, Julius Röntgen en Mel Bonis. Ze werkten samen met componisten als Willem Jeths en Ramin Amin Tafreshi, en maken regelmatig uitstapjes naar een uitgebreidere bezetting met bijvoorbeeld zang of altviool. “Tim Brackman is niet alleen een zeer begaafd violist, maar ook een begenadigd verteller. Rik Kuppen speelde transparant en met een prachtig touché, Kalle de Bie maakte indruk met expressief spel”</p><p>Meer informatie op hun websites: Tim Brackman en Kalle de Bie en Rik Kuppen</p><p>Organisatie: Cultbee, met dank aan vrijwilligers, donateurs (Cultbee is een culturele ANBI), partners, subsidiegevers. Reserveren aanbevolen! &nbsp; Meer informatie: www.cultbee.nl&nbsp;</p><p>Datum: zaterdag &nbsp;20 december 2025</p><p>Plaats: Beetsterzwaag, Sint Martenskerk (Dorpskerk), Van Lyndenlaan 5.</p><p>Parkeren: gratis parkeren naast de kerk, parkeerterrein Van Lyndenlaan</p><p>Aanvang: 16:00 uur; &nbsp;welkom vanaf 15:30 uur met koffie/thee/fris.&nbsp;</p><p>Entree-concert: € 15, - (t/m 18 jaar: gratis) per persoon. &nbsp;&nbsp;</p><p>Kaartverkoop: bestel kaarten per email aan: cultuur@cultbee.nl of maak 15 euro p.p. over op onze bankrekening IBAN = NL40TRIO 0198427174 t.n.v. St. Cultuur Beetsterzwaag. Schrijf er graag bij “winterconcert”. Ook aan de ingang van de kerk te koop (cash of pin) vanaf 15:30 uur.</p>
DESCRIPTION:<a href='/agenda/2025/12/20/winterconcert-door-brackman-trio-viool-cello-piano--119212'>/agenda/2025/12/20/winterconcert-door-brackman-trio-viool-cello-piano--119212</a> || <p>Winterconcert door de professionele musici van het Brackman Trio, bestaande uit Tim Brackman, viool en Kalle de Bie, cello en Rik Kuppen, piano. Zij spelen klassieke muziek van o.a. Brahms, Shostakovich, Roslavets en Schoenberg. Muziek van hun nieuwste CD, die genomineerd is voor een Edison Klassiek en waarvoor zij de Duitse “Schallplattenkritik”- prijs kregen.</p><p>&nbsp;Tim, Kalle en Rik hebben alle drie hun sporen verdiend, zowel als kamermusicus als solistisch. Alle drie waren zij prijswinnaars bij nationale concoursen zoals Dutch Classical Talent, Cellobiënnale, Nederlands Vioolconcours Oskar Back en de Young Pianist Foundation. In het Brackman Trio hebben zij hun krachten gebundeld. Het Brackman Trio vindt dat het pianotrio als ensemblevorm nog meer erkenning verdient. Zij verdiepen zich in het bekende pianotriorepertoire van o.a. Beethoven, Haydn of Brahms, maar zien het ook als hun missie om op zoek te gaan naar de onbekende pareltjes binnen dit genre, zoals bijvoorbeeld de pianotrio’s van Nikolai Roslavets, Julius Röntgen en Mel Bonis. Ze werkten samen met componisten als Willem Jeths en Ramin Amin Tafreshi, en maken regelmatig uitstapjes naar een uitgebreidere bezetting met bijvoorbeeld zang of altviool. “Tim Brackman is niet alleen een zeer begaafd violist, maar ook een begenadigd verteller. Rik Kuppen speelde transparant en met een prachtig touché, Kalle de Bie maakte indruk met expressief spel”</p><p>Meer informatie op hun websites: Tim Brackman en Kalle de Bie en Rik Kuppen</p><p>Organisatie: Cultbee, met dank aan vrijwilligers, donateurs (Cultbee is een culturele ANBI), partners, subsidiegevers. Reserveren aanbevolen! &nbsp; Meer informatie: www.cultbee.nl&nbsp;</p><p>Datum: zaterdag &nbsp;20 december 2025</p><p>Plaats: Beetsterzwaag, Sint Martenskerk (Dorpskerk), Van Lyndenlaan 5.</p><p>Parkeren: gratis parkeren naast de kerk, parkeerterrein Van Lyndenlaan</p><p>Aanvang: 16:00 uur; &nbsp;welkom vanaf 15:30 uur met koffie/thee/fris.&nbsp;</p><p>Entree-concert: € 15, - (t/m 18 jaar: gratis) per persoon. &nbsp;&nbsp;</p><p>Kaartverkoop: bestel kaarten per email aan: cultuur@cultbee.nl of maak 15 euro p.p. over op onze bankrekening IBAN = NL40TRIO 0198427174 t.n.v. St. Cultuur Beetsterzwaag. Schrijf er graag bij “winterconcert”. Ook aan de ingang van de kerk te koop (cash of pin) vanaf 15:30 uur.</p>
LAST-MODIFIED:20260425T110550Z
LOCATION: Sint Martenskerk | Van Lyndenlaan  Beetsterzwaag
SEQUENCE:0
STATUS:CONFIRMED
SUMMARY:Winterconcert door Brackman Trio (viool, cello, piano)
TRANSP:OPAQUE
END:VEVENT
END:VCALENDAR
