BEGIN:VCALENDAR
PRODID:-//PUBBLE//agenda//NL
VERSION:2.0
METHOD:PUBLISH
BEGIN:VEVENT
DTSTART:20251102T140000Z
DTEND:20251102T160000Z
DTSTAMP:20260421T022507Z
UID:15c5069c-dbd8-47a4-8d2b-0e10939f5b9d
CREATED:20260421T022507Z
NAME:Allerzielen in de Dorpskerk grootsa.nl
X-WR-CALNAME:Allerzielen in de Dorpskerk
X-ALT-DESC;FMTTYPE=text/html:<a href='/agenda/2025/11/2/allerzielen-in-de-dorpskerk-119421'>/agenda/2025/11/2/allerzielen-in-de-dorpskerk-119421</a> || <p>Op zondag 2 november is het Allerzielen, een gedenkdag, waarop de overledenen herdacht worden. In Beetsterzwaag is dan de Dorpskerk aan de van Lyndenlaan geopend van 16.00 -18.00. Er kan dan een lichtje worden aangestoken tegen al het duister voor de mensen die wij missen.</p><p>De kerk is open voor rust en bezinning. Van harte welkom.</p>
DESCRIPTION:<a href='/agenda/2025/11/2/allerzielen-in-de-dorpskerk-119421'>/agenda/2025/11/2/allerzielen-in-de-dorpskerk-119421</a> || <p>Op zondag 2 november is het Allerzielen, een gedenkdag, waarop de overledenen herdacht worden. In Beetsterzwaag is dan de Dorpskerk aan de van Lyndenlaan geopend van 16.00 -18.00. Er kan dan een lichtje worden aangestoken tegen al het duister voor de mensen die wij missen.</p><p>De kerk is open voor rust en bezinning. Van harte welkom.</p>
LAST-MODIFIED:20260421T022507Z
LOCATION: Sint Martenskerk | Van Lyndenlaan  Beetsterzwaag
SEQUENCE:0
STATUS:CONFIRMED
SUMMARY:Allerzielen in de Dorpskerk
TRANSP:OPAQUE
END:VEVENT
END:VCALENDAR
