BEGIN:VCALENDAR
PRODID:-//PUBBLE//agenda//NL
VERSION:2.0
METHOD:PUBLISH
BEGIN:VEVENT
DTSTART:20260501T180000Z
DTEND:20260501T190000Z
DTSTAMP:20260420T072210Z
UID:dbd43cad-4097-4462-bd21-0fb80567a262
CREATED:20260420T072210Z
NAME:Cabaretavond Stoeterij Het Swarte Paert grootsa.nl
X-WR-CALNAME:Cabaretavond Stoeterij Het Swarte Paert
X-ALT-DESC;FMTTYPE=text/html:<a href='/agenda/2026/5/1/cabaretavond-stoeterij-het-swarte-paert-128304'>/agenda/2026/5/1/cabaretavond-stoeterij-het-swarte-paert-128304</a> || <p>Cabaretavond met sand-up comediant Jacob Spoelstra,</p><p>Deur open 20.00 uur, aanvang 20.30 uur.</p><p>Tickets: € 17,50. Reserveer tijdig. Vol is vol!</p><br /><span class="pdfEmbed" id="4a6bf1ad-dc18-4bc8-af48-f4138dc4db8d"><a href="http://pubblestorage.blob.core.windows.net/d0059c11/customer/embed/2026/3/4a6bf1ad-dc18-4bc8-af48-f4138dc4db8d.pdf" target="_blank">Link naar PDF bestand</a></span>
DESCRIPTION:<a href='/agenda/2026/5/1/cabaretavond-stoeterij-het-swarte-paert-128304'>/agenda/2026/5/1/cabaretavond-stoeterij-het-swarte-paert-128304</a> || <p>Cabaretavond met sand-up comediant Jacob Spoelstra,</p><p>Deur open 20.00 uur, aanvang 20.30 uur.</p><p>Tickets: € 17,50. Reserveer tijdig. Vol is vol!</p><br /><span class="pdfEmbed" id="4a6bf1ad-dc18-4bc8-af48-f4138dc4db8d"><a href="http://pubblestorage.blob.core.windows.net/d0059c11/customer/embed/2026/3/4a6bf1ad-dc18-4bc8-af48-f4138dc4db8d.pdf" target="_blank">Link naar PDF bestand</a></span>
LAST-MODIFIED:20260420T072210Z
LOCATION: Stoeterij Het Swarte Paert | Binnenwei 13 A Hemrik
SEQUENCE:0
STATUS:CONFIRMED
SUMMARY:Cabaretavond Stoeterij Het Swarte Paert
TRANSP:OPAQUE
END:VEVENT
END:VCALENDAR
