BEGIN:VCALENDAR
PRODID:-//PUBBLE//agenda//NL
VERSION:2.0
METHOD:PUBLISH
BEGIN:VEVENT
DTSTART:20260524T090000Z
DTEND:20260524T143000Z
DTSTAMP:20260420T104306Z
UID:6cbbdb88-12d6-4a53-a607-b2e7b61d3c7e
CREATED:20260420T104306Z
NAME:Heerlijk Landleven Fair grootsa.nl
X-WR-CALNAME:Heerlijk Landleven Fair
X-ALT-DESC;FMTTYPE=text/html:<a href='/agenda/2026/5/24/heerlijk-landleven-fair-128305'>/agenda/2026/5/24/heerlijk-landleven-fair-128305</a> || <p>Heerlijk Landleven Fair in Soeterij het Swarte Paert te Hemrik met streekproducten, lifestyle en wol.</p>
DESCRIPTION:<a href='/agenda/2026/5/24/heerlijk-landleven-fair-128305'>/agenda/2026/5/24/heerlijk-landleven-fair-128305</a> || <p>Heerlijk Landleven Fair in Soeterij het Swarte Paert te Hemrik met streekproducten, lifestyle en wol.</p>
LAST-MODIFIED:20260420T104306Z
LOCATION: Stoeterij Het Swarte Paert | Binnenwei 13 A Hemrik
SEQUENCE:0
STATUS:CONFIRMED
SUMMARY:Heerlijk Landleven Fair
TRANSP:OPAQUE
END:VEVENT
END:VCALENDAR
