BEGIN:VCALENDAR
PRODID:-//PUBBLE//agenda//NL
VERSION:2.0
METHOD:PUBLISH
BEGIN:VEVENT
DTSTART:20260502T080000Z
DTEND:20260502T110000Z
DTSTAMP:20260420T071211Z
UID:f818e5a4-228f-4f74-bdce-2d649ffe1efb
CREATED:20260420T071211Z
NAME:Repaircafé Gorredijk open voor onderzoek en reparatie van uw spullen grootsa.nl
X-WR-CALNAME:Repaircafé Gorredijk open voor onderzoek en reparatie van uw spullen
X-ALT-DESC;FMTTYPE=text/html:<a href='/agenda/2026/5/2/repaircafe-gorredijk-open-voor-onderzoek-en-reparatie-van-uw-spullen-129737'>/agenda/2026/5/2/repaircafe-gorredijk-open-voor-onderzoek-en-reparatie-van-uw-spullen-129737</a> || <p>Van 10:00 tot 12:00 kun je je spullen dan aanbieden aan onze vrijwilligers. Tot 13:00 werken zij door om alle aangeboden spullen te repareren.</p><p>Deze spullen kun je bij ons ter reparatie aanbieden: Stofzuigers, koffiemachines, tosti-apparaten, broodroosters, strijkijzers, lampen, laptops, printers, speelgoed, naaimachines en (tuin)gereedschappen.&nbsp;</p><p>Mocht je iets ter reparatie hebben wat hier niet bij staat, breng het gerust mee. Als we het kunnen repareren doen we dat graag, en kunnen we het toevoegen aan het bovenstaande lijstje.</p><p>Ook bent u welkom voor kleine naaiklusjes: Losse naden herstellen, Aanzetten knopen, Broekzakken dicht naaien, Handschoenen naaien.</p><p>Wij kijken uit naar je komst in ons Repair café in Gorredijk.Je kunt ons vinden in de bibliotheek in Gorredijk: Schansburg 1, 8401 RX, Gorredijk</p>
DESCRIPTION:<a href='/agenda/2026/5/2/repaircafe-gorredijk-open-voor-onderzoek-en-reparatie-van-uw-spullen-129737'>/agenda/2026/5/2/repaircafe-gorredijk-open-voor-onderzoek-en-reparatie-van-uw-spullen-129737</a> || <p>Van 10:00 tot 12:00 kun je je spullen dan aanbieden aan onze vrijwilligers. Tot 13:00 werken zij door om alle aangeboden spullen te repareren.</p><p>Deze spullen kun je bij ons ter reparatie aanbieden: Stofzuigers, koffiemachines, tosti-apparaten, broodroosters, strijkijzers, lampen, laptops, printers, speelgoed, naaimachines en (tuin)gereedschappen.&nbsp;</p><p>Mocht je iets ter reparatie hebben wat hier niet bij staat, breng het gerust mee. Als we het kunnen repareren doen we dat graag, en kunnen we het toevoegen aan het bovenstaande lijstje.</p><p>Ook bent u welkom voor kleine naaiklusjes: Losse naden herstellen, Aanzetten knopen, Broekzakken dicht naaien, Handschoenen naaien.</p><p>Wij kijken uit naar je komst in ons Repair café in Gorredijk.Je kunt ons vinden in de bibliotheek in Gorredijk: Schansburg 1, 8401 RX, Gorredijk</p>
LAST-MODIFIED:20260420T071211Z
LOCATION: Bibliotheek Gorredijk  | Schansburg 1 Gorredijk
SEQUENCE:0
STATUS:CONFIRMED
SUMMARY:Repaircafé Gorredijk open voor onderzoek en reparatie van uw spullen
TRANSP:OPAQUE
END:VEVENT
END:VCALENDAR
